BEGIN:VCALENDAR
VERSION:2.0
PRODID:-// - ECPv6.15.17//NONSGML v1.0//EN
CALSCALE:GREGORIAN
METHOD:PUBLISH
X-ORIGINAL-URL:https://www.actg-cro.com
X-WR-CALDESC:Évènements pour 
REFRESH-INTERVAL;VALUE=DURATION:PT1H
X-Robots-Tag:noindex
X-PUBLISHED-TTL:PT1H
BEGIN:VTIMEZONE
TZID:Africa/Tunis
BEGIN:STANDARD
TZOFFSETFROM:+0100
TZOFFSETTO:+0100
TZNAME:CET
DTSTART:20230101T000000
END:STANDARD
END:VTIMEZONE
BEGIN:VEVENT
DTSTART;TZID=Africa/Tunis:20240907T080000
DTEND;TZID=Africa/Tunis:20241020T120000
DTSTAMP:20260423T135342
CREATED:20240817T195158Z
LAST-MODIFIED:20240817T211333Z
UID:1759-1725696000-1729425600@www.actg-cro.com
SUMMARY:FORMATION INTERNATIONALE ATTACHÉ DE RECHERCHE CLINIQUE
DESCRIPTION:Inscription Formation ARC\nInscription Formation ARC\nACTG-CRO s’engage à protéger et à respecter votre vie privée.\nNous n’utiliserons vos données personnelles que pour vous proposer une formation adaptée à votre profil. \n\n\n\n\n\n\n\n	Nom\n		*\n	\n	\n	\n		Nom	\n\n	\n					\n				\n					Prénom				\n\n				Prénom			\n						\n				\n					Nom de Famille				\n\n				Nom de Famille			\n				\n\n\n	\n	\n\n\n	Email\n		*\n	\n	\n	\n	\n\n\n	Valider Email\n		*\n	\n	\n	\n	\n\n\n	Téléphone\n		*\n	\n	\n	\n	\n\n\n	Niveau d'études\n		*\n	\n			\n		DoctoratMasterProfessionnel de Santé	\n	\n	\n	\n\n\n	Formation souhaitée :\n		*\n	\n			\n		Formation Attaché de Recherche Clinique (Tunisie) - Public : 2600DTFormation Attaché de Recherche Clinique (Tunisie) - Entreprise/Institution : 3700DT + TVAFormation Accélérée Attaché de Recherche Clinique (Algérie) - Public : 80 000DAFormation Accélérée Attaché de Recherche Clinique (Algérie) - Entreprise/Institution : 120 000DA	\n	\n	\n	\n\n\n	Où avez-vous entendu parler de nos formations ?\n		*\n	\n						\n			 LinkedIn\n					\n			 Facebook\n					\n			 X (Twitter)\n					\n			 Recherche Internet\n					\n			 Site Internet ACTG-CRO\n					\n			 Bouche à oreille\n\n	\n	\n\n\n	\n		*\n	\n						\n			 Je comprends et j’accepte que le paiement de pré-inscription (300 DT ou 10 000 DA)\, qui sera déduit du coût total de la formation\, n’est pas remboursable. Si la formation est annulée\, la totalité des frais payés par le candidat ou la société seront entièrement remboursés.\n\n	\n	\n\n\n	\n		*\n	\n						\n			 Je donne mon consentement pour le traitement de mes données personnelles ainsi que pour les photos et vidéos pouvant être prises durant cette formation.\n\n	\n	\n\n\n	Insérer votre CV à jour avec la copie de votre dernier diplôme\n		*\n	\n	\n\n\n	\n		\n				\n	\n	\n				\n	\n		Déposer un fichier ici ou cliquer pour télécharger\n		Choisir un fichier\n		\n			Taille de fichier maximale : 134.22MB \n		\n	\n\n	\n	\n	\n\n\n	Modalités de Paiement\n		*\n	\n						\n			 Virement\n					\n			 Espèces\n					\n			 Chèque\n					\n			 Bon de commande\n					\n			 Baridimob\n					\n			 Sponsorisé par Laboratoire\n\n	\n	\n\n\n	Paiement\n		*\n	\n			\n		PersonnelEntreprise	\n	\n	\n	\n\n\n	\nEnvoyer\n\n\n\n\n\n	\n			\n			\n				Si vous êtes un humain\, ne remplissez pas ce champ.			\n			\n		\n		\n\n\n\nΔ
URL:https://www.actg-cro.com/event/formation-internationale-attache-de-recherche-clinique/
LOCATION:Centre de Formation de ACTG-CRO\, Rue Mouawiya Ibn Abi Sofiene\,\, Ariana\, Menzah 6\, Tunisie
ORGANIZER;CN="CF ACTG (Centre de Formation de ACTG-CRO)":MAILTO:contact@actg-cro.com
END:VEVENT
BEGIN:VEVENT
DTSTART;TZID=Africa/Tunis:20241026T080000
DTEND;TZID=Africa/Tunis:20241110T120000
DTSTAMP:20260423T135342
CREATED:20240817T210609Z
LAST-MODIFIED:20241021T150040Z
UID:1793-1729929600-1731240000@www.actg-cro.com
SUMMARY:FORMATION DÉLÉGUÉ MÉDICAL
DESCRIPTION:https://www.actg-cro.com/wp-content/uploads/2024/08/document_5816508341630801284.mp4\n\n\n\n\nInscription Formation Délégué Médical\nInscription Formation Délégué Médical\nACTG-CRO s’engage à protéger et à respecter votre vie privée.\nNous n’utiliserons vos données personnelles que pour vous proposer une formation adaptée à votre profil. \n\n\n\n\n\n\n\n	Nom\n		*\n	\n	\n	\n		Nom	\n\n	\n					\n				\n					Prénom				\n\n				Prénom			\n						\n				\n					Nom de Famille				\n\n				Nom de Famille			\n				\n\n\n	\n	\n\n\n	Email (confiirmer l'email)\n		*\n	\n	\n	\n	\n\n\n	Valider Email (confiirmer l'email)\n		*\n	\n	\n	\n	\n\n\n	Téléphone\n		*\n	\n	\n	\n	\n\n\n	Nom Entreprise / Laboratoire\n		*\n	\n	\n	\n	\n\n\n	Formation DM :\n		\n	\n			\n	Délégué Médical : Entreprises : 1200 DT +19% TVA	\n	\n	\n	\n\n\n	Quantité\n		*\n	\n	\n	\n	\n\n\n	Total\n		\n	\n	 \n	\n	\n\n\n	Modalités de Paiement\n		*\n	\n						\n			 Virement\n					\n			 Espèces\n					\n			 Chèque\n					\n			 Bon de commande\n\n	\n	\n\n\n	Paiement\n		*\n	\n			\n		Entreprise PrivéInstitution Publique	\n	\n	\n	\n\n\n	Où avez-vous entendu parler de nos formations ?\n		*\n	\n						\n			 LinkedIn\n					\n			 Facebook\n					\n			 X (Twitter)\n					\n			 Recherche Internet\n					\n			 Site Internet ACTG-CRO\n					\n			 Bouche à oreille\n\n	\n	\n\n\n	\n		*\n	\n						\n			 Je donne mon consentement pour le traitement de mes données personnelles ainsi que pour les photos et vidéos pouvant être prises durant cette formation.\n\n	\n	\n\n\n	\nEnvoyer\n\n\n\n\n\n	\n			\n			\n				Si vous êtes un humain\, ne remplissez pas ce champ.			\n			\n		\n		\n\n\n\nΔ
URL:https://www.actg-cro.com/event/formation-delegue-medical/
LOCATION:Centre de Formation de ACTG-CRO\, Rue Mouawiya Ibn Abi Sofiene\,\, Ariana\, Menzah 6\, Tunisie
ORGANIZER;CN="CF ACTG (Centre de Formation de ACTG-CRO)":MAILTO:contact@actg-cro.com
END:VEVENT
END:VCALENDAR